BEGIN:VCALENDAR
VERSION:2.0
PRODID:-//ChamberMaster//Event Calendar 2.0//EN
METHOD:PUBLISH
X-PUBLISHED-TTL:P3D
REFRESH-INTERVAL:P3D
CALSCALE:GREGORIAN
BEGIN:VEVENT
DTSTART:20260502T160000Z
DTEND:20260503T045500Z
X-MICROSOFT-CDO-ALLDAYEVENT:FALSE
SUMMARY:For the love of horses: UW-River Falls celebrates 50th anniversary of Colts in Training Sale May 2
DESCRIPTION:The University of Wisconsin-River Falls will host its 50th annual Colts in Training Sale May 2 \n\nThe colt sale has only been held virtually since the COVID-19 pandemic began in 2020. The model proved to be efficient\, but the landmark anniversary called for a special event.\n\n\n\nLearn more at https://www.uwrf.edu/newsroom/2026/04/for-love-horses-uwrf-celebrates-50th-anniversary-colts-training-sale-may-2
X-ALT-DESC;FMTTYPE=text/html:<p>The University of Wisconsin-River Falls will host its 50th annual Colts in Training Sale May 2&nbsp\;</p>\n\n<p>The colt sale has only been held virtually since the COVID-19 pandemic began in 2020. The model proved to be efficient\, but the landmark anniversary called for a special event.<br />\n<br />\nLearn more at&nbsp\;<a href="https://www.uwrf.edu/newsroom/2026/04/for-love-horses-uwrf-celebrates-50th-anniversary-colts-training-sale-may-2">https://www.uwrf.edu/newsroom/2026/04/for-love-horses-uwrf-celebrates-50th-anniversary-colts-training-sale-may-2</a></p>\n
LOCATION:Campus Farm\,1475 S. Wasson Ln.\, River Falls.
UID:e.2450.38651
SEQUENCE:3
DTSTAMP:20260422T004004Z
URL:https://tourism.discoverhudsonwi.org/events/details/for-the-love-of-horses-uw-river-falls-celebrates-50th-anniversary-of-colts-in-training-sale-may-2-38651
END:VEVENT

END:VCALENDAR
