BEGIN:VCALENDAR
VERSION:2.0
PRODID:-//ChamberMaster//Event Calendar 2.0//EN
METHOD:PUBLISH
X-PUBLISHED-TTL:P3D
REFRESH-INTERVAL:P3D
CALSCALE:GREGORIAN
BEGIN:VEVENT
DTSTART:20260520T150000Z
DTEND:20260520T170000Z
X-MICROSOFT-CDO-ALLDAYEVENT:FALSE
SUMMARY:Literary Festival at Sea Informational Session
DESCRIPTION:Chapter 2 Books and Ted Blank Luxury Travel and Adventure are excited to invite fellow readers and book enthusiasts on an unforgettable transatlantic adventure celebrating the written word.  Starting at the storied streets of New York City and finishing with visits to iconic literary landmarks in London and Oxford\, we'll cross the Atlantic aboard the elegant Queen Mary 2 during the Cunard Literature Festival at Sea\, where authors\, scholars\, and readers gather for lectures\, discussions\, and literary enrichments.\n\n\n\nJoin us for an informational session at 10:00 AM on Wednesday\, May 20 at the Carpenter Nature Center\, Wisconsin Campus (279 South Cove Road\, Hudson\, WI.  Light refreshments will be served.
X-ALT-DESC;FMTTYPE=text/html:Chapter 2 Books and Ted Blank Luxury Travel and Adventure are excited to invite fellow readers and book enthusiasts on an unforgettable transatlantic adventure celebrating the written word.&nbsp\; Starting at the storied streets of New York City and finishing with visits to iconic literary landmarks in London and Oxford\, we&#39\;ll cross the Atlantic aboard the elegant Queen Mary 2 during the Cunard Literature Festival at Sea\, where authors\, scholars\, and readers gather for lectures\, discussions\, and literary enrichments.<br />\n<br />\n<strong>Join us for an informational session at 10:00 AM on Wednesday\, May 20 at the Carpenter Nature Center\, Wisconsin Campus (279 South Cove Road\, Hudson\, WI.&nbsp\; Light refreshments will be served.</strong>
LOCATION:Carpenter Nature Center\, Wisconsin Campus\, 279 South Cove Road\, Hudson\, WI
UID:e.2450.38655
SEQUENCE:3
DTSTAMP:20260423T222909Z
URL:https://tourism.discoverhudsonwi.org/events/details/literary-festival-at-sea-informational-session-38655
END:VEVENT

END:VCALENDAR
