BEGIN:VCALENDAR
VERSION:2.0
PRODID:-//ChamberMaster//Event Calendar 2.0//EN
METHOD:PUBLISH
X-PUBLISHED-TTL:P3D
REFRESH-INTERVAL:P3D
CALSCALE:GREGORIAN
BEGIN:VEVENT
DTSTART:20260509T140000Z
DTEND:20260509T170000Z
X-MICROSOFT-CDO-ALLDAYEVENT:FALSE
SUMMARY:Sleep In Heavenly Peace Bed Build Workshop
DESCRIPTION:KPT Collaborative is hosting a Bed Build event with Sleep in Heavenly Peace\, and we want YOU\, your family\, and your work family there with us!\n\n \n\nSleep in Heavenly Peace builds and delivers beds to children who would otherwise sleep on the floor. Together\, we can make sure more kids in our community have a safe\, comfortable place to rest.\n\n \n\nWe need 40 volunteers to make this happen!\n\nKids are welcome and NO experience or special skills are required!\n\nSpend your Saturday morning making a real difference right here in your community.\n\nIt's a meaningful way to give back\, and a great thing to do together as a family or team.\n\n \n\nWe're already HALFWAY to our $5\,000 fundraising goal - and we need your help to get there!\n\nEach bed costs $250 to build\, but donations of ANY amount make a difference.\n\n\n\nTo donate\, simply send us a message and we'll get you the details!\n\ninfo@kptcollaborative.com\n\n \n\nReady to roll up your sleeves?\n\nRegistration is required.\n\nWe're so grateful for your support of all the GOOD stuff we are doing here at KPT Collaborative!
X-ALT-DESC;FMTTYPE=text/html:<div>KPT Collaborative is hosting a Bed Build event with Sleep in Heavenly Peace\, and we want YOU\, your family\, and your work family there with us!<br />\n&nbsp\;</div>\n\n<div>Sleep in Heavenly Peace builds and delivers beds to children who would otherwise sleep on the floor. Together\, we can make sure more kids in our community have a safe\, comfortable place to rest.<br />\n&nbsp\;</div>\n\n<div>We need 40 volunteers to make this happen!<br />\nKids are welcome and NO experience or special skills are required!<br />\nSpend your Saturday morning making a real difference right here in your community.<br />\nIt&#39\;s a meaningful way to give back\, and a great thing to do together as a family or team.<br />\n&nbsp\;</div>\n\n<div>We&#39\;re already HALFWAY to our $5\,000 fundraising goal - and we need your help to get there!</div>\n\n<div>Each bed costs $250 to build\, but donations of ANY amount make a difference.<br />\n<br />\nTo donate\, simply send us a message and we&#39\;ll get you the details!<br />\ninfo@kptcollaborative.com<br />\n&nbsp\;</div>\n\n<div>Ready to roll up your sleeves?<br />\nRegistration is required.<br />\nWe&#39\;re so grateful for your support of all the GOOD stuff we are doing here at KPT Collaborative!</div>\n
LOCATION:KPT Collaborative 522 2nd Street Downtown Hudson *this event will take place OUTSIDE - so dress accordingly!
UID:e.2450.38652
SEQUENCE:3
DTSTAMP:20260421T222520Z
URL:https://tourism.discoverhudsonwi.org/events/details/sleep-in-heavenly-peace-bed-build-workshop-38652
END:VEVENT

END:VCALENDAR
