BEGIN:VCALENDAR
VERSION:2.0
PRODID:-//ChamberMaster//Event Calendar 2.0//EN
METHOD:PUBLISH
X-PUBLISHED-TTL:P3D
REFRESH-INTERVAL:P3D
CALSCALE:GREGORIAN
BEGIN:VEVENT
DTSTART:20260505T173000Z
DTEND:20260505T200000Z
X-MICROSOFT-CDO-ALLDAYEVENT:FALSE
SUMMARY:Vegetable Gardening Dos and Don'ts - HH&GC program with Anna Franti from Camp St. Croix Farm
DESCRIPTION:Please join us on Tuesday\, May 5th as we welcome Anna Franti\, the Farm Program Director from the YMCA Camp Gardening Program as our speaker. Anna will be talking about all things 'vegetable gardening' just in time for planting season! This is our last spring meeting before we head into our summer events so a good meeting not to miss! Please see the details on the attached flyer.
X-ALT-DESC;FMTTYPE=text/html:<span style="color:rgb(8\, 8\, 9)\; font-family:segoe ui historic\,segoe ui\,helvetica\,arial\,sans-serif\; font-size:15px">Please join us on Tuesday\, May 5th as we welcome Anna Franti\, the Farm Program Director from the YMCA Camp Gardening Program as our speaker. Anna will be talking about all things &#39\;vegetable gardening&#39\; just in time for planting season! This is our last spring meeting before we head into our summer events so a good meeting not to miss! Please see the details on the attached flyer.</span>
LOCATION:Phipps Center for the Arts 109 Locust St Hudson\, WI 54016
UID:e.2450.38649
SEQUENCE:3
DTSTAMP:20260421T114908Z
URL:https://tourism.discoverhudsonwi.org/events/details/vegetable-gardening-dos-and-don-ts-hh-gc-program-with-anna-franti-from-camp-st-croix-farm-38649
END:VEVENT

END:VCALENDAR
